BEGIN:VCALENDAR
VERSION:2.0
PRODID:-//Contratero//ES
CALSCALE:GREGORIAN
METHOD:PUBLISH
BEGIN:VEVENT
UID:030/2023 - 2020012994@contratero.es
DTSTAMP:20260422T175603Z
DTSTART:20221130T235959
DTEND:20221201T005959
SUMMARY:Cierre: Servicio de mantenimiento de licencias y soporte d
DESCRIPTION:Servicio de mantenimiento de licencias y soporte de los sistemas de información “IRE RAYOS X”\, de los servicios de radiología instalados en diversos Complejos Asistenciales de la Gerencia Regional de ...\\n\\nOrganismo: Gerencia Regional de Salud de Castilla y León\\n\\nVer en Contratero: https://contratero.es/contracts/030/2023 - 2020012994
URL:https://contratero.es/contracts/030/2023 - 2020012994
STATUS:CONFIRMED
BEGIN:VALARM
TRIGGER:-P1D
ACTION:DISPLAY
DESCRIPTION:Recordatorio: Servicio de mantenimiento de l
END:VALARM
END:VEVENT
END:VCALENDAR